BEGIN:VCALENDAR
VERSION:2.0
PRODID:-//ChamberMaster//Event Calendar 2.0//EN
METHOD:PUBLISH
X-PUBLISHED-TTL:P3D
REFRESH-INTERVAL:P3D
CALSCALE:GREGORIAN
BEGIN:VEVENT
DTSTART:20180324T123000Z
DTEND:20180324T160000Z
X-MICROSOFT-CDO-ALLDAYEVENT:FALSE
SUMMARY:Eggciting Easter Event in Linden!
DESCRIPTION:$7.00 All Inclusive per child ($5 per adult)\n\n  Breakfast & Pictures with the Easter Bunny until 10:30am\n\n  Bounce House & Activities\n\n  Bunny Hop Race - 1st\, 2nd and 3rd place prizes and Participation Ribbon starting at 10:45am\n\n  Easter Egg Hunt and Golden Egg Surprise starting at 11:15am\n\n  Bunny Ears\n\n  Canvas Bags\n\n  Face Painting\n\n  Dance Off\n\n  Music
X-ALT-DESC;FMTTYPE=text/html:<span style="font-family:arial\;"><span style="font-size:14px\;"><strong>$7.00 All Inclusive</strong> <strong>per child ($5 per adult)</strong><br />\n<span style="direction: ltr\; unicode-bidi: embed\;">&middot\;</span>&nbsp\;Breakfast &amp\; Pictures with the Easter Bunny until 10:30am<br />\n<span style="direction: ltr\; unicode-bidi: embed\;">&middot\;</span>&nbsp\;Bounce House &amp\; Activities<br />\n<span style="direction: ltr\; unicode-bidi: embed\;">&middot\; </span><span style="letter-spacing: -0.12px\;">Bunny Hop Race - 1st\, 2nd and 3rd place prizes and Participation Ribbon</span> starting at 10:45am<br />\n<span style="direction: ltr\; unicode-bidi: embed\;">&middot\;&nbsp\;</span>Easter Egg Hunt and Golden Egg Surprise starting at 11:15am<br />\n<span style="direction: ltr\; unicode-bidi: embed\;">&middot\;</span>&nbsp\;Bunny Ears<br />\n<span style="direction: ltr\; unicode-bidi: embed\;">&middot\;</span>&nbsp\;Canvas Bags<br />\n<span style="direction: ltr\; unicode-bidi: embed\;">&middot\;</span>&nbsp\;Face Painting<br />\n<span style="direction: ltr\; unicode-bidi: embed\;">&middot\;</span>&nbsp\;Dance Off<br />\n<span style="direction: ltr\; unicode-bidi: embed\;">&middot\;</span>&nbsp\;Music</span></span>
LOCATION:Hyatt Elementary 325 Stan Eaton Dr. Linden
UID:e.1362.5214
SEQUENCE:3
DTSTAMP:20260421T013226Z
URL:http://fentonchamber.chambermaster.com/events/details/eggciting-easter-event-in-linden-5214
END:VEVENT

END:VCALENDAR
