BEGIN:VCALENDAR
VERSION:2.0
PRODID:-//ChamberMaster//Event Calendar 2.0//EN
METHOD:PUBLISH
X-PUBLISHED-TTL:P3D
REFRESH-INTERVAL:P3D
CALSCALE:GREGORIAN
BEGIN:VEVENT
DTSTART:20171129T220000Z
DTEND:20171130T000000Z
X-MICROSOFT-CDO-ALLDAYEVENT:FALSE
SUMMARY:Networking After Hours
DESCRIPTION:Make key connections\, foster business relationships\, and win prizes in the laid-back atmosphere of our Networking After Hours event at Sawyer Jewelers!
X-ALT-DESC;FMTTYPE=text/html:Make key connections\, foster business relationships\, and win prizes in the laid-back atmosphere of our Networking After Hours event at Sawyer Jewelers!
LOCATION:Sawyer Jewelers 134 N. Leroy St.\, Suite 1 Fenton\, MI
UID:e.1362.5143
SEQUENCE:3
DTSTAMP:20260425T144439Z
URL:http://fentonchamber.chambermaster.com/events/details/networking-after-hours-5143
END:VEVENT

END:VCALENDAR
